BEGIN:VCALENDAR
VERSION:2.0
PRODID:-//Plone.org//NONSGML plone.app.event//EN
X-WR-TIMEZONE:Brazil/East
BEGIN:VEVENT
SUMMARY:Sessões Ordinárias
DTSTART;VALUE=DATE:20230215
DTEND;VALUE=DATE:20230217
DTSTAMP;VALUE=DATE-TIME:20260423T193920Z
UID:985dc53037804fe8b1fb940767eaddb3@www.matrincha.go.leg.br
CREATED;VALUE=DATE-TIME:20230131T111748Z
LAST-MODIFIED;VALUE=DATE-TIME:20230131T122859Z
URL:https://www.matrincha.go.leg.br/institucional/eventos/sessoes-ordinari
 as-2
END:VEVENT
END:VCALENDAR
